BEGIN:VCALENDAR
VERSION:2.0
PRODID:-//Pio - ECPv6.15.17.1//NONSGML v1.0//EN
CALSCALE:GREGORIAN
METHOD:PUBLISH
X-WR-CALNAME:Pio
X-ORIGINAL-URL:https://pio.nu
X-WR-CALDESC:Händelser för Pio
REFRESH-INTERVAL;VALUE=DURATION:PT1H
X-Robots-Tag:noindex
X-PUBLISHED-TTL:PT1H
BEGIN:VTIMEZONE
TZID:Europe/Stockholm
BEGIN:DAYLIGHT
TZOFFSETFROM:+0100
TZOFFSETTO:+0200
TZNAME:CEST
DTSTART:20200329T010000
END:DAYLIGHT
BEGIN:STANDARD
TZOFFSETFROM:+0200
TZOFFSETTO:+0100
TZNAME:CET
DTSTART:20201025T010000
END:STANDARD
BEGIN:DAYLIGHT
TZOFFSETFROM:+0100
TZOFFSETTO:+0200
TZNAME:CEST
DTSTART:20210328T010000
END:DAYLIGHT
BEGIN:STANDARD
TZOFFSETFROM:+0200
TZOFFSETTO:+0100
TZNAME:CET
DTSTART:20211031T010000
END:STANDARD
BEGIN:DAYLIGHT
TZOFFSETFROM:+0100
TZOFFSETTO:+0200
TZNAME:CEST
DTSTART:20220327T010000
END:DAYLIGHT
BEGIN:STANDARD
TZOFFSETFROM:+0200
TZOFFSETTO:+0100
TZNAME:CET
DTSTART:20221030T010000
END:STANDARD
BEGIN:DAYLIGHT
TZOFFSETFROM:+0100
TZOFFSETTO:+0200
TZNAME:CEST
DTSTART:20230326T010000
END:DAYLIGHT
BEGIN:STANDARD
TZOFFSETFROM:+0200
TZOFFSETTO:+0100
TZNAME:CET
DTSTART:20231029T010000
END:STANDARD
BEGIN:DAYLIGHT
TZOFFSETFROM:+0100
TZOFFSETTO:+0200
TZNAME:CEST
DTSTART:20240331T010000
END:DAYLIGHT
BEGIN:STANDARD
TZOFFSETFROM:+0200
TZOFFSETTO:+0100
TZNAME:CET
DTSTART:20241027T010000
END:STANDARD
BEGIN:DAYLIGHT
TZOFFSETFROM:+0100
TZOFFSETTO:+0200
TZNAME:CEST
DTSTART:20250330T010000
END:DAYLIGHT
BEGIN:STANDARD
TZOFFSETFROM:+0200
TZOFFSETTO:+0100
TZNAME:CET
DTSTART:20251026T010000
END:STANDARD
BEGIN:DAYLIGHT
TZOFFSETFROM:+0100
TZOFFSETTO:+0200
TZNAME:CEST
DTSTART:20260329T010000
END:DAYLIGHT
BEGIN:STANDARD
TZOFFSETFROM:+0200
TZOFFSETTO:+0100
TZNAME:CET
DTSTART:20261025T010000
END:STANDARD
END:VTIMEZONE
BEGIN:VEVENT
DTSTART;TZID=Europe/Stockholm:20250427T140000
DTEND;TZID=Europe/Stockholm:20250427T170000
DTSTAMP:20260425T215336
CREATED:20250320T085657Z
LAST-MODIFIED:20250320T085657Z
UID:11730-1745762400-1745773200@pio.nu
SUMMARY:PIO Örebro - Västmanland bjuder in sina medlemmar till vårträff med zebra-promenad
DESCRIPTION:Läs mer här!
URL:https://pio.nu/kalender/pio-orebro-vastmanland-bjuder-in-sina-medlemmar-till-vartraff-med-zebra-promenad/
END:VEVENT
BEGIN:VEVENT
DTSTART;TZID=Europe/Stockholm:20250427T110000
DTEND;TZID=Europe/Stockholm:20250427T110000
DTSTAMP:20260425T215336
CREATED:20250417T132523Z
LAST-MODIFIED:20250417T132523Z
UID:11734-1745751600-1745751600@pio.nu
SUMMARY:PIO Skåne - Blekinge bjuder in alla medlemmar i PIO till en digital föreläsning om immunförsvaret och vad som påverkar det/vad man kan påverka själv.
DESCRIPTION:PIO Skåne – Blekinge bjuder in sina medlemmar till en digital föreläsning.\nÖvriga medlemmar i PIO är också hjärtligt välkomna att lyssna! \nNär: 27 april 2025\nKlockan: 11.00\nVar: Zoom \nRegistrera dig i förväg för detta möte via länken. \nEfter registreringen kommer du att få ett bekräftelsemeddelande med information om hur du ansluter dig till mötet. \nSe inbjudan här (pdf)
URL:https://pio.nu/kalender/digital-forelasning-om-immunforsvaret-och-vad-som-paverkar-det-vad-man-kan-paverka-sjalv/
END:VEVENT
BEGIN:VEVENT
DTSTART;VALUE=DATE:20250422
DTEND;VALUE=DATE:20250430
DTSTAMP:20260425T215336
CREATED:20250321T120551Z
LAST-MODIFIED:20250321T120551Z
UID:11732-1745280000-1745971199@pio.nu
SUMMARY:Världsimmunbristveckan 22–29 april\,  #GoZebra och #ZebraRun
DESCRIPTION:Världsimmunbristveckan genomförs runt om i världen för att öka medvetenheten och kunskapen hos vårdpersonal\, allmänhet och beslutsfattare. Målet är att alla barn och vuxna med primär immunbrist ska få rätt diagnos och adekvat behandling för att kunna leva ett så bra liv som möjligt. \nLäs mer på kampanjsidan!
URL:https://pio.nu/kalender/varldsimmunbristveckan-22-29-april-gozebra-och-zebrarun/
END:VEVENT
BEGIN:VEVENT
DTSTART;TZID=Europe/Stockholm:20250403T180000
DTEND;TZID=Europe/Stockholm:20250403T190000
DTSTAMP:20260425T215336
CREATED:20250321T084456Z
LAST-MODIFIED:20250321T084456Z
UID:11731-1743703200-1743706800@pio.nu
SUMMARY:PIO Smålands årsmöte 3 april kl 18.00
DESCRIPTION:Se inbjudan här!
URL:https://pio.nu/kalender/pio-smalands-arsmote-3-april-kl-18-00/
END:VEVENT
BEGIN:VEVENT
DTSTART;VALUE=DATE:20250329
DTEND;VALUE=DATE:20250330
DTSTAMP:20260425T215336
CREATED:20240902T125236Z
LAST-MODIFIED:20240902T125236Z
UID:11726-1743206400-1743292799@pio.nu
SUMMARY:PIO riks årsmöte i Örebro 2025
DESCRIPTION:Anmälan PIOs års- och medlemsmöte lördag 29 mars 2025 \nPlats: Scandic Grand Örebro eller digitalt via Zoom\nTid: 09.30–16.00\nAnmälan senast: 15 februari \nFör mer info: Klicka här (pdf). \n \nAnmälan: Anmälan via länken.
URL:https://pio.nu/kalender/pio-riks-arsmote-i-orebro-2025/
END:VEVENT
BEGIN:VEVENT
DTSTART;TZID=Europe/Stockholm:20250201T130000
DTEND;TZID=Europe/Stockholm:20250201T140000
DTSTAMP:20260425T215336
CREATED:20250107T074608Z
LAST-MODIFIED:20250107T074608Z
UID:11729-1738414800-1738418400@pio.nu
SUMMARY:Föreläsning i samband med de regionala föreningarnas årsmöten
DESCRIPTION:Digital föreläsning via Zoom 1 februari\, kl. 13.00–14.00: Olov Ekwall\, professor i pediatrisk immunologi vid Göteborgs universitet och överläkare vid Drottning Silvias barnsjukhus\, Göteborg kommer att föreläsa om nya sätt att diagnostisera primär immunbrist\, nya läkemedel och om vikten av samverkan mellan sjukvården och personer med primär immunbrist och deras närstående. Anmälan till Zoom via länken: Anmälan \nEfter anmälan får du en auto-bekräftelse med länk till föreläsningen. Varmt välkommen!
URL:https://pio.nu/kalender/forelasning-i-samband-med-de-regionala-foreningarnas-arsmoten/
END:VEVENT
BEGIN:VEVENT
DTSTART;TZID=Europe/Stockholm:20241114T180000
DTEND;TZID=Europe/Stockholm:20241114T190000
DTSTAMP:20260425T215336
CREATED:20241030T083352Z
LAST-MODIFIED:20241030T083352Z
UID:11728-1731607200-1731610800@pio.nu
SUMMARY:Digital föreläsning: Vaccin och primär immunbrist
DESCRIPTION:Välkommen till en digital föreläsning om vaccin och primär immunbrist. \nFredrik Kahn\, docent\, överläkare\, Infektionskliniken\, Skånes universitetssjukhus berättar om olika typer av vaccin\, vilka som rekommenderas för personer med olika primära immunbrister och varför\, vilka som riskerar att inte ge skydd och vad som kan vara farligt. Vi kommer också att få lite information om mpox. \nAnmälan till Zoom via länken. \nEfter registrering får du en bekräftelse direkt från Zoom.
URL:https://pio.nu/kalender/digital-forelasning-vaccinationer-och-primar-immunbrist/
END:VEVENT
BEGIN:VEVENT
DTSTART;VALUE=DATE:20240808
DTEND;VALUE=DATE:20240812
DTSTAMP:20260425T215336
CREATED:20231027T125239Z
LAST-MODIFIED:20231027T125239Z
UID:11720-1723075200-1723420799@pio.nu
SUMMARY:PIOs familjeläger på Uskavigården utanför Nora
DESCRIPTION:Mer information kommer under våren 2024.
URL:https://pio.nu/kalender/pios-familjelager-pa-uskavigarden-utanfor-nora/
END:VEVENT
BEGIN:VEVENT
DTSTART;TZID=Europe/Stockholm:20240428T140000
DTEND;TZID=Europe/Stockholm:20240428T160000
DTSTAMP:20260425T215336
CREATED:20240418T100300Z
LAST-MODIFIED:20240418T100300Z
UID:11725-1714312800-1714320000@pio.nu
SUMMARY:PIO Örebro-Västmanland bjuder in till träff under Världsimmunbristveckan.
DESCRIPTION:Välkommen till en kravlös eftermiddag tillsammans med andra PIO-medlemmar den 28 april i samband med Världsimmunbristveckan. \nVi träffas kl. 14.00 på Hamnplan i Örebro för en kort promenad med efterföljande fika i vackra Wadköping. \nHör av dig till Mathias (070-380 40 96) eller Anita (anitadoragrip@yahoo.se) innan 24 april om du vill tillbringa den här eftermiddagen med oss! \nHoppas vi ses! Styrelsen i PIO Örebro-Västmanland
URL:https://pio.nu/kalender/pio-orebro-vastmanland-bjuder-in-till-traff-under-varldsimmunbristveckan/
END:VEVENT
BEGIN:VEVENT
DTSTART;TZID=Europe/Stockholm:20240424T180000
DTEND;TZID=Europe/Stockholm:20240424T193000
DTSTAMP:20260425T215336
CREATED:20240418T091653Z
LAST-MODIFIED:20240418T091653Z
UID:11724-1713981600-1713987000@pio.nu
SUMMARY:Zebraträff med föreläsningar via Zoom
DESCRIPTION:Varmt välkommen till: Världsimmunbristveckan – Zebraträff med föreläsningar\nDatum: onsdag 24 april 2024\nTid: 18.00–19.30 (Vi öppnar för inlogg kl. 17.50)\n\n\nImmunologi och primär immunbrist\, Åsa Nilsdotter\, överläkare\, infektionskliniken\, Linköpings universitetssjukhus. \nPersoncentrerad vård\, Ramona Fust\, sjuksköterska\, infektionskliniken\, Linköpings universitetssjukhus. \nSjuksköterskebesök\, Carina Hagstedt\, sjuksköterska\, infektionskliniken\, Länssjukhuset Ryhov. \n\n\nRegistrera dig via länken:\nhttps://us02web.zoom.us/meeting/register/tZUrf–tpjMqGNVIfv7mSuYCBYTkKy8aKIdu\n\nEfter registrering får du en auto-bekräftelse från Zoom med mer information.
URL:https://pio.nu/kalender/zebratraff-med-forelasningar-via-zoom/
END:VEVENT
BEGIN:VEVENT
DTSTART;TZID=Europe/Stockholm:20240424T170000
DTEND;TZID=Europe/Stockholm:20240424T200000
DTSTAMP:20260425T215336
CREATED:20240416T095125Z
LAST-MODIFIED:20240416T095125Z
UID:11723-1713978000-1713988800@pio.nu
SUMMARY:Zebraträff 24 april i Jönköping
DESCRIPTION:Välkommen till Zebraträff 24 april i Jönköping\nAnmälan via mejl: info@pio.nu \nUppge hur många ni är som kommer samt information om ev. allergi. \nSista dag för anmälan 17 april. \nVarmt välkommen!
URL:https://pio.nu/kalender/zebratraff-24-april-i-jonkoping/
END:VEVENT
BEGIN:VEVENT
DTSTART;VALUE=DATE:20240422
DTEND;VALUE=DATE:20240430
DTSTAMP:20260425T215336
CREATED:20231027T125029Z
LAST-MODIFIED:20231027T125029Z
UID:11719-1713744000-1714435199@pio.nu
SUMMARY:Världsimmunbristveckan och #GoZebra
DESCRIPTION:Här kan du läsa om kampanjen och registrera din promenad-tid. Klicka här!
URL:https://pio.nu/kalender/varldsimmunbristveckan-och-gozebra/
END:VEVENT
BEGIN:VEVENT
DTSTART;TZID=Europe/Stockholm:20240323T090000
DTEND;TZID=Europe/Stockholm:20240323T163000
DTSTAMP:20260425T215336
CREATED:20231124T101751Z
LAST-MODIFIED:20231124T101751Z
UID:11721-1711184400-1711211400@pio.nu
SUMMARY:PIOs årsmöte 2024 i Göteborg
DESCRIPTION:Välkommen till PIOs årsmöte i Göteborg. \nMötet kommer att vara ett hybrid-möte dvs även digitalt. \nFör mer information och anmälan: Klicka här!
URL:https://pio.nu/kalender/pios-arsmote-2023/
END:VEVENT
BEGIN:VEVENT
DTSTART;TZID=Europe/Stockholm:20240204T000000
DTEND;TZID=Europe/Stockholm:20240204T000000
DTSTAMP:20260425T215336
CREATED:20231127T085115Z
LAST-MODIFIED:20231127T085115Z
UID:11722-1707004800-1707004800@pio.nu
SUMMARY:Årsmöten i PIOs regionala föreningar
DESCRIPTION:Mer information kommer via de regionala föreningarna.
URL:https://pio.nu/kalender/arsmoten-i-pios-regionala-foreningar/
END:VEVENT
BEGIN:VEVENT
DTSTART;TZID=Europe/Stockholm:20231026T173000
DTEND;TZID=Europe/Stockholm:20231026T200000
DTSTAMP:20260425T215336
CREATED:20230926T074424Z
LAST-MODIFIED:20230926T074424Z
UID:11718-1698341400-1698350400@pio.nu
SUMMARY:Regional medlemsträff den 26 oktober 2023 i Örebro.
DESCRIPTION:PIO Örebro-Västmanland och PIO riks bjuder in till en regional medlemsträff den 26 oktober i PIOs lokaler på Mellringevägen 120 C (en trappa upp)\, Örebro. Till mötet kommer PIOs nya ordförande Maria Löfving och Anneli Larsson från PIO-kontoret för att informera om patientcentrerad vård. Målet för sjukvården i Sverige är att den ska vara patientcentrerad. Men vad är egentligen patientcentrerad vård och vad innebär det för mig som patient? Maria och Anneli förklarar begreppen och vill samtidigt höra från medlemmarna om hur sjukvården fungerar när man har primär immunbrist. \nLäs inbjudan här!
URL:https://pio.nu/kalender/regional-medlemstraff-den-26-oktober-2023-i-orebro/
END:VEVENT
BEGIN:VEVENT
DTSTART;TZID=Europe/Stockholm:20231002T173000
DTEND;TZID=Europe/Stockholm:20231002T200000
DTSTAMP:20260425T215336
CREATED:20230904T141520Z
LAST-MODIFIED:20230904T141520Z
UID:11716-1696267800-1696276800@pio.nu
SUMMARY:Regional medlemsträff den 2 oktober i Stockholm.
DESCRIPTION:En kväll om patientcentrerad vård \nPIO Stockholm-Uppsala och PIO riks bjuder in till en regional medlemsträff den 2 oktober i Stockholm. Till mötet kommer PIOs nya ordförande Maria Löfving och Anneli Larsson från PIO-kontoret för att informera om patientcentrerad vård. Målet för sjukvården i Sverige är att den ska vara patientcentrerad. Men vad är egentligen patientcentrerad vård och vad innebär det för mig som patient? Maria och Anneli förklarar begreppen och vill samtidigt höra från medlemmarna om hur sjukvården fungerar när man har primär immunbrist. \nSe inbjudan som pdf.
URL:https://pio.nu/kalender/pio-stockholm-uppsala-och-pio-riks-bjuder-in-till-en-regional-medlemstraff-den-2-oktober-i-stockholm/
END:VEVENT
BEGIN:VEVENT
DTSTART;TZID=Europe/Stockholm:20230921T173000
DTEND;TZID=Europe/Stockholm:20230921T200000
DTSTAMP:20260425T215336
CREATED:20230823T124907Z
LAST-MODIFIED:20230823T124907Z
UID:11714-1695317400-1695326400@pio.nu
SUMMARY:Regional medlemsträff den 21 september kl. 17.30 i Göteborg
DESCRIPTION:PIO Väst-Halland och PIO riks bjuder in till en regional medlemsträff den 21 september kl. 17.30 i Göteborg på Östra sjukhuset\, (Sahlgrenska universitetssjukhuset-Östra). Till mötet kommer PIOs nya ordförande Maria Löfving och Anneli Larsson från PIO-kontoret för att informera om patientcentrerad vård. Målet för sjukvården i Sverige är att den ska vara patientcentrerad. Men vad är egentligen patientcentrerad vård och vad innebär det för mig som patient? Maria och Anneli förklarar begreppen och vill samtidigt höra från medlemmarna om hur sjukvården fungerar när man har primär immunbrist. \nLäs inbjudan som pdf.
URL:https://pio.nu/kalender/regional-medlemstraff-den-21-september-kl-17-30-i-goteborg/
END:VEVENT
BEGIN:VEVENT
DTSTART;TZID=Europe/Stockholm:20230919T173000
DTEND;TZID=Europe/Stockholm:20230919T200000
DTSTAMP:20260425T215336
CREATED:20230823T125250Z
LAST-MODIFIED:20230823T125250Z
UID:11715-1695144600-1695153600@pio.nu
SUMMARY:Regional medlemsträff den 19 september i Lund.
DESCRIPTION:PIO Skåne-Blekinge och PIO riks bjuder in till en regional medlemsträff den 19 september i Lund. Till mötet kommer PIOs nya ordförande Maria Löfving och Anneli Larsson från PIO-kontoret för att informera om patientcentrerad vård. Målet för sjukvården i Sverige är att den ska vara patientcentrerad. Men vad är egentligen patientcentrerad vård och vad innebär det för mig som patient? Maria och Anneli förklarar begreppen och vill samtidigt höra från medlemmarna om hur sjukvården fungerar när man har primär immunbrist. \nLäs inbjudan som pdf.
URL:https://pio.nu/kalender/regional-medlemstraff-den-19-september-i-lund/
END:VEVENT
BEGIN:VEVENT
DTSTART;VALUE=DATE:20230810
DTEND;VALUE=DATE:20230814
DTSTAMP:20260425T215336
CREATED:20220826T102821Z
LAST-MODIFIED:20220826T102821Z
UID:11709-1691625600-1691971199@pio.nu
SUMMARY:PIOs familjeläger 2023
DESCRIPTION:
URL:https://pio.nu/kalender/pios-familjelager-2023/
END:VEVENT
BEGIN:VEVENT
DTSTART;VALUE=DATE:20230422
DTEND;VALUE=DATE:20230430
DTSTAMP:20260425T215336
CREATED:20220926T121615Z
LAST-MODIFIED:20220926T121615Z
UID:11710-1682121600-1682812799@pio.nu
SUMMARY:Världsimmunbristveckan och kampanjen #GoZebra. Nyhet! #ZebraRun
DESCRIPTION:Nyhet 2023 – Nu kan du också delta och samla tid via appen RaceONE. Du kan anmäla dig till 1–3 virtuella lopp #ZebraRun med distanserna 1 km\, 3 km och 5 km. \nINFO om kampanjen: Vi kommer att sammanställa alla tider (promenader och lopp) både via appen RaceONE och som registreras direkt via PIOs hemsida (precis som tidigare dvs utan app). Deltagande via appen ska inte registreras på hemsidan (den sker automatiskt). Promenader utan appen registrerar du själv i formuläret här. \n\nInfo om #ZebraRun via appen RaceONE: Skillnaden mellan ett virtuellt lopp och ett vanligt lopp\, är att du själv bestämmer NÄR och VAR du vill genomföra loppet\, under kampanjveckan. Du registrerar din medverkan digitalt\, i appen RaceONE. Du kan välja att anmäla dig till ett lopp i taget eller till samtliga tre lopp. Anmälningsavgift 100 kr/lopp alternativt 250 kr om du anmäler dig till samtliga tre lopp. Barn/ungdomar under 18 år betalar 50 kr/lopp. (Anmälningsavgiften täcker kostnaden för loppet och överskottet går till PIOs forskningsfond.) Länk till RaceONE #ZebraRun.
URL:https://pio.nu/kalender/varldsimmunbristveckan-och-kampanjen-gozebra/
END:VEVENT
BEGIN:VEVENT
DTSTART;VALUE=DATE:20230325
DTEND;VALUE=DATE:20230326
DTSTAMP:20260425T215336
CREATED:20221128T141158Z
LAST-MODIFIED:20221128T141158Z
UID:11711-1679702400-1679788799@pio.nu
SUMMARY:PIO riks årsmöte och medlemsmöte i Stockholm
DESCRIPTION:Välkommen till årsmöte och medlemsmöte i Stockholm lördagen den 25 mars 2023. \nMötet kommer att vara ett hybridmöte dvs även digitalt via Zoom. \nMer information och anmälan: Klicka här!
URL:https://pio.nu/kalender/pio-riks-arsmote-25-mars-2023/
CATEGORIES:Aktiviteter
END:VEVENT
BEGIN:VEVENT
DTSTART;TZID=Europe/Stockholm:20230205T103000
DTEND;TZID=Europe/Stockholm:20230205T130000
DTSTAMP:20260425T215336
CREATED:20230110T142955Z
LAST-MODIFIED:20230110T142955Z
UID:11713-1675593000-1675602000@pio.nu
SUMMARY:PIO Örebro-Västmanlands årsmöte 2023
DESCRIPTION:Mötet kommer att hållas i centrala Örebro men du kan också delta via dator eller mobilen. \nLäs mer här.
URL:https://pio.nu/kalender/arsmote-i-pio-orebro-vastmanland/
END:VEVENT
BEGIN:VEVENT
DTSTART;TZID=Europe/Stockholm:20230205T100000
DTEND;TZID=Europe/Stockholm:20230205T123000
DTSTAMP:20260425T215336
CREATED:20221220T142300Z
LAST-MODIFIED:20221220T142300Z
UID:11712-1675591200-1675600200@pio.nu
SUMMARY:PIO Väst-Hallands årsmöte 2023
DESCRIPTION:Välkommen till PIO Väst-Hallands digitala årsmöte.
URL:https://pio.nu/kalender/pio-vast-hallands-arsmote-2023/
CATEGORIES:Aktiviteter
END:VEVENT
BEGIN:VEVENT
DTSTART;VALUE=DATE:20221012
DTEND;VALUE=DATE:20221016
DTSTAMP:20260425T215336
CREATED:20220615T113959Z
LAST-MODIFIED:20220615T113959Z
UID:11708-1665532800-1665878399@pio.nu
SUMMARY:ESID 2022 i Göteborg
DESCRIPTION:PIO-medlemmar – möjlighet att delta på internationellt immunbristmöte i Göteborg 12–15 oktober!\nSverige och Göteborg har fått den stora äran att arrangera det internationella gemensamma primär immunbristmötet för läkare\, sjuksköterskor och patienter som hålls vartannat år. Mötet äger rum på Svenska Mässan Gothia Towers i Göteborg den 12–15 oktober. \nDetta är ett fantastiskt tillfälle att få ta del av föreläsningar av värl­dens främsta läkare\, sjuksköterskor och forskare samt att få träffa och dela erfarenheter med patientrepresentan­ter från hela världen. Från PIO kommer ett femtontal representanter från riksorganisationens och de regio­nala föreningarnas styrelser samt PIO-kontoret att delta. \nVill du också delta? \nPIO är glada att kunna erbjuda ett antal medlemmar möjlighet att delta i IPOPIs program på plats under kongressdagarna. PIO står för anmälan\, deltagaravgift och hotell\, enkelrum har bokats på Quality hotell Panorama\, ca 10 minuters promenad från kongressen. Resan betalar var och en själv. Alla före­läsningar är på engelska. Sista dag för ansökan är 15 juli. Efter mötet önskar PIO en kort utvärdering (ca ½ A4-sida) om hur du upplevt mötet. \nSenast i början av augusti får du besked om det är just du som får möjlighet att delta med stöd från PIO. \nVill du ansöka om att få delta på IPOPI-mötet mejlar du din ansökan till info@pio.nu senast den 15 juli. Ansökan ska innehålla: \n\nNågra korta rader om vem du är och vad din koppling till primär immunbrist är. (Har du immunbrist själv eller är närstående.)\nMotivering till varför du vill delta.\nNamn\, postadress\, e-postadress och telefonnummer\, födelseårtal.\n\nPIO kan tyvärr inte erbjuda alla medlemmar ekonomiskt stöd att få delta\, men anmälan är öppen för alla om man vill betala själv. Ett tips är att det också går att anmäla sig för att delta via webben helt utan kostnad. Då får man lyssna till ett utvalt antal föreläsningar online. \nHär finns information om mötesdagarna och program: https://esidmeeting.org/ \nKongressen anordnas gemensamt av:\nESID\, Eu­ropean Society for Immunodeficiencies\,\nINGID\, Inter­national Nursing Group for Immunodeficiencies och\nIPOPI\, International Patient Organisation for Primary Immunodeficiencies
URL:https://pio.nu/kalender/esid-2022-i-goteborg/
END:VEVENT
BEGIN:VEVENT
DTSTART;VALUE=DATE:20220811
DTEND;VALUE=DATE:20220815
DTSTAMP:20260425T215336
CREATED:20210921T180606Z
LAST-MODIFIED:20210921T180606Z
UID:11703-1660176000-1660521599@pio.nu
SUMMARY:Familjeläger i Uskavi 2022
DESCRIPTION:Via länken finns mer information. \nFunderar du på att anmäla dig och har frågor kring lägret är du välkommen att höra av dig till oss:\nLinda Zakrisson\, tel 070-258 35 56\, lindasiljegren@hotmail.com\nSusanne Larsson\, tel 073-833 85 46\, pio.susanne.la@gmail.com\nJennie Sefton\, tel 076-771 28 63\, jennie.sefton@hotmail.com
URL:https://pio.nu/kalender/familjelager-i-uskavi-2022/
END:VEVENT
BEGIN:VEVENT
DTSTART;VALUE=DATE:20220422
DTEND;VALUE=DATE:20220430
DTSTAMP:20260425T215336
CREATED:20210921T180324Z
LAST-MODIFIED:20210921T180324Z
UID:11702-1650585600-1651276799@pio.nu
SUMMARY:Världsimmunbristveckan 2022
DESCRIPTION:Via länken kan du läsa mer om kampanjen och registrera dina promenader. \n#GoZebra 2022\n”Bli lite zebra” och gå för primär immunbrist och PIO!\nKlä dig i svart och vitt (så gott det går) och ta en härlig promenad i vårsolen! Via promenaderna samlas pengar in till PIO\, via stöd från kampanjens samarbetspartner\, som ska användas till att sprida mer information om primär immunbrist. \nTIPS! Uppmuntra eller utmana dina vänner att vara med i kampanjen.\n– Jag går för primär immunbrist! Under Världsimmunbristveckan uppmärksammas primära immunbrister över hela världen. Zebran används för att förklara och sprida kunskap om ovanliga sjukdomar. Om du hör klappret av hovar\, är det naturliga att tänka “häst”. Men tänk om det faktiskt är en zebra som kommer? Leta efter det ovanliga\, det kan vara primär immunbrist!
URL:https://pio.nu/kalender/varldsimmunbristveckan-22-29-april-2022/
CATEGORIES:Aktiviteter
END:VEVENT
BEGIN:VEVENT
DTSTART;TZID=Europe/Stockholm:20220326T100000
DTEND;TZID=Europe/Stockholm:20220326T121500
DTSTAMP:20260425T215336
CREATED:20210921T182241Z
LAST-MODIFIED:20210921T182241Z
UID:11704-1648288800-1648296900@pio.nu
SUMMARY:PIOs årsmöte samt föreläsningar - 26 mars 2022 via Zoom.
DESCRIPTION:Trots att mötesrestriktionerna\, i skrivande stund\, har återgått till det mer normala så bedömer PIOs styrelse att det är lite för tidigt att mötas i större samlingar redan i mars. PIOs årsmöte blir därför även i år digitalt. Vi är mycket glada för möjligheten att kunna bjuda på två digitala föreläsningar direkt efter årsmötet. Föreläsare är Peter Bergman\, docent och bitr. överläkare vid Immunbristenheten\, Karolinska Universitetssjukhuset och Anders Fasth\, professor vid Drottning Silvias barn- och ungdomssjukhus\, Sahlgrenska Universitetssjukhuset. Alla som anmäler sig till mötet kommer att få en liten godsak till fika som vi skickar per post. \nDen 26 mars blir det både årsmötesförhandlingar och två spännande digitala föreläsningar. \nProgram: \n09.30: Vi öppnar Zoom\n10.00–10.50: Årsmöte\n10.50–11.00: Fika\n11.00–12.15: Föreläsningar \nAnmälan är stängd.\n \n 
URL:https://pio.nu/kalender/pios-arsmote-i-jonkoping-2022/
END:VEVENT
BEGIN:VEVENT
DTSTART;TZID=Europe/Stockholm:20220205T113000
DTEND;TZID=Europe/Stockholm:20220205T130000
DTSTAMP:20260425T215336
CREATED:20210922T191002Z
LAST-MODIFIED:20210922T191002Z
UID:11705-1644060600-1644066000@pio.nu
SUMMARY:Länsavdelningarnas årsmöten 2022
DESCRIPTION:Årsmöten via Zoom. \nLänsavdelningar:\nPIO Väst-Halland\nPIO Skåne-Blekinge\nPIO Småland\nPIO Stockholm-Uppsala\nPIO Örebro-Västmanland \nAnmälan via respektive länsavdelning.
URL:https://pio.nu/kalender/lansavdelningarnas-arsmote-2022/
CATEGORIES:Aktiviteter
END:VEVENT
BEGIN:VEVENT
DTSTART;TZID=Europe/Stockholm:20220205T100000
DTEND;TZID=Europe/Stockholm:20220205T113000
DTSTAMP:20260425T215336
CREATED:20210922T191343Z
LAST-MODIFIED:20210922T191343Z
UID:11706-1644055200-1644060600@pio.nu
SUMMARY:Föreläsningar i samband med årsmöten
DESCRIPTION:Inbjudan till digitala föreläsningar: \n• Vad vet vi idag om primär immunbrist och covid-19?  \n• Hur ska man tänka kring träning när man har primär immunbrist? \nPetter Brodin\, professor i immunologi vid Karolinska Institutet och professor of Paediatric Immunology at Imperial College London\, föreläser om covid-19 vid primär immunbrist. Vi får en uppdatering om risker\, behandling\, vaccination och om antikroppar mot covid-19 i immunglobuliner. Petter Brodin kommer också ge en kort presentation om den spännande forskning som han bedriver inom primär immunbristområdet. \nDärefter berättar Camilla Ottosson\, ordförande i PIO Skåne-Blekinge och molekylärbiolog\, om vad forskning visat om träning när man har nedsatt immunförsvar. Camilla Ottosson intervjuar också Freddy Godden\, medlem  i PIO\, som delar med sig av sina erfarenheter kring träning och primär immunbrist. \nVälkommen att lyssna via e-mötesverktyget Zoom lördag den 5 februari 2022\, kl. 10.00 – 11.30 \nANMÄLAN: \nPIOs regionala föreningar bjuder in till dessa gemensamma föreläsningar i samband med sina årsmöten. Föreläsningarna pågår 10.00 – 11.30 och följs av årsmötesförhandlingar fram till cirka 12.30. Du anmäler dig till föreläsningen enligt informationen som du har fått i årsmötesinbjudan från din regionala förening. \nOm det inte finns något regional förening där du bor är du ändå välkommen att lyssna på föreläsningarna\, mejla då din anmälan till info@pio.nu senast den 1 februari. \nLänk till Zoom skickas efter anmälan. \nVälkommen! \nRegionala föreningar:\nPIO Väst-Halland\nPIO Skåne-Blekinge\nPIO Småland\nPIO Stockholm-Uppsala\nPIO Örebro-Västmanland
URL:https://pio.nu/kalender/forelasning-i-samband-med-arsmoten/
CATEGORIES:Aktiviteter
END:VEVENT
BEGIN:VEVENT
DTSTART;VALUE=DATE:20210812
DTEND;VALUE=DATE:20210816
DTSTAMP:20260425T215336
CREATED:20210917T132040Z
LAST-MODIFIED:20210917T132040Z
UID:11701-1628726400-1629071999@pio.nu
SUMMARY:Familjeläger i Uskavi 2021
DESCRIPTION:Välkommen till PIOs familjeläger på Uskavigården vid sjön Usken utanför Nora.
URL:https://pio.nu/kalender/familjelager-i-uskavi-utanfor-nora/
CATEGORIES:Aktiviteter
END:VEVENT
END:VCALENDAR