BEGIN:VCALENDAR
VERSION:2.0
PRODID:-//Pio - ECPv6.15.17.1//NONSGML v1.0//EN
CALSCALE:GREGORIAN
METHOD:PUBLISH
X-ORIGINAL-URL:https://pio.nu
X-WR-CALDESC:Händelser för Pio
REFRESH-INTERVAL;VALUE=DURATION:PT1H
X-Robots-Tag:noindex
X-PUBLISHED-TTL:PT1H
BEGIN:VTIMEZONE
TZID:Europe/Stockholm
BEGIN:DAYLIGHT
TZOFFSETFROM:+0100
TZOFFSETTO:+0200
TZNAME:CEST
DTSTART:20250330T010000
END:DAYLIGHT
BEGIN:STANDARD
TZOFFSETFROM:+0200
TZOFFSETTO:+0100
TZNAME:CET
DTSTART:20251026T010000
END:STANDARD
BEGIN:DAYLIGHT
TZOFFSETFROM:+0100
TZOFFSETTO:+0200
TZNAME:CEST
DTSTART:20260329T010000
END:DAYLIGHT
BEGIN:STANDARD
TZOFFSETFROM:+0200
TZOFFSETTO:+0100
TZNAME:CET
DTSTART:20261025T010000
END:STANDARD
BEGIN:DAYLIGHT
TZOFFSETFROM:+0100
TZOFFSETTO:+0200
TZNAME:CEST
DTSTART:20270328T010000
END:DAYLIGHT
BEGIN:STANDARD
TZOFFSETFROM:+0200
TZOFFSETTO:+0100
TZNAME:CET
DTSTART:20271031T010000
END:STANDARD
END:VTIMEZONE
BEGIN:VEVENT
DTSTART;VALUE=DATE:20260321
DTEND;VALUE=DATE:20260322
DTSTAMP:20260426T032531
CREATED:20250911T113911Z
LAST-MODIFIED:20250911T113911Z
UID:11739-1774051200-1774137599@pio.nu
SUMMARY:PIOs medlemsdag och årsmöte 2026
DESCRIPTION:PIOs medlemsdag och årsmöte kommer att hållas på Radisson Blu Hotel i Uppsala. Du kan också delta digitalt via Zoom. Behöver du boende finns rum bokade på hotellet i anslutning till konferenslokalen. Fredag kväll finns möjlighet att träffas för en gemensam middag på hotellet. Sista anmälningsdag är den 13 februari. \nLäs mer och anmäl dig via länken. \nVarmt välkommen!
URL:https://pio.nu/kalender/pios-arsmote-2026-2/
CATEGORIES:Aktiviteter
END:VEVENT
END:VCALENDAR